BEGIN:VCALENDAR
VERSION:2.0
PRODID:-//Borough of Litchfield - ECPv6.15.20//NONSGML v1.0//EN
CALSCALE:GREGORIAN
METHOD:PUBLISH
X-WR-CALNAME:Borough of Litchfield
X-ORIGINAL-URL:https://boroughoflitchfield.org
X-WR-CALDESC:Events for Borough of Litchfield
REFRESH-INTERVAL;VALUE=DURATION:PT1H
X-Robots-Tag:noindex
X-PUBLISHED-TTL:PT1H
BEGIN:VTIMEZONE
TZID:America/New_York
BEGIN:DAYLIGHT
TZOFFSETFROM:-0500
TZOFFSETTO:-0400
TZNAME:EDT
DTSTART:20210314T070000
END:DAYLIGHT
BEGIN:STANDARD
TZOFFSETFROM:-0400
TZOFFSETTO:-0500
TZNAME:EST
DTSTART:20211107T060000
END:STANDARD
BEGIN:DAYLIGHT
TZOFFSETFROM:-0500
TZOFFSETTO:-0400
TZNAME:EDT
DTSTART:20220313T070000
END:DAYLIGHT
BEGIN:STANDARD
TZOFFSETFROM:-0400
TZOFFSETTO:-0500
TZNAME:EST
DTSTART:20221106T060000
END:STANDARD
BEGIN:DAYLIGHT
TZOFFSETFROM:-0500
TZOFFSETTO:-0400
TZNAME:EDT
DTSTART:20230312T070000
END:DAYLIGHT
BEGIN:STANDARD
TZOFFSETFROM:-0400
TZOFFSETTO:-0500
TZNAME:EST
DTSTART:20231105T060000
END:STANDARD
END:VTIMEZONE
BEGIN:VEVENT
DTSTART;TZID=America/New_York:20220630T180000
DTEND;TZID=America/New_York:20220630T200000
DTSTAMP:20260421T043126
CREATED:20220629T003158Z
LAST-MODIFIED:20220629T003158Z
UID:1208-1656612000-1656619200@boroughoflitchfield.org
SUMMARY:BOL Special Meeting
DESCRIPTION:
URL:https://boroughoflitchfield.org/event/bol-special-meeting/
LOCATION:Litchfield Borough Hall
CATEGORIES:BOL
END:VEVENT
END:VCALENDAR