BEGIN:VCALENDAR
VERSION:2.0
PRODID:-//Borough of Litchfield - ECPv6.15.20//NONSGML v1.0//EN
CALSCALE:GREGORIAN
METHOD:PUBLISH
X-ORIGINAL-URL:https://boroughoflitchfield.org
X-WR-CALDESC:Events for Borough of Litchfield
REFRESH-INTERVAL;VALUE=DURATION:PT1H
X-Robots-Tag:noindex
X-PUBLISHED-TTL:PT1H
BEGIN:VTIMEZONE
TZID:America/New_York
BEGIN:DAYLIGHT
TZOFFSETFROM:-0500
TZOFFSETTO:-0400
TZNAME:EDT
DTSTART:20250309T070000
END:DAYLIGHT
BEGIN:STANDARD
TZOFFSETFROM:-0400
TZOFFSETTO:-0500
TZNAME:EST
DTSTART:20251102T060000
END:STANDARD
BEGIN:DAYLIGHT
TZOFFSETFROM:-0500
TZOFFSETTO:-0400
TZNAME:EDT
DTSTART:20260308T070000
END:DAYLIGHT
BEGIN:STANDARD
TZOFFSETFROM:-0400
TZOFFSETTO:-0500
TZNAME:EST
DTSTART:20261101T060000
END:STANDARD
BEGIN:DAYLIGHT
TZOFFSETFROM:-0500
TZOFFSETTO:-0400
TZNAME:EDT
DTSTART:20270314T070000
END:DAYLIGHT
BEGIN:STANDARD
TZOFFSETFROM:-0400
TZOFFSETTO:-0500
TZNAME:EST
DTSTART:20271107T060000
END:STANDARD
BEGIN:DAYLIGHT
TZOFFSETFROM:-0500
TZOFFSETTO:-0400
TZNAME:EDT
DTSTART:20280312T070000
END:DAYLIGHT
BEGIN:STANDARD
TZOFFSETFROM:-0400
TZOFFSETTO:-0500
TZNAME:EST
DTSTART:20281105T060000
END:STANDARD
END:VTIMEZONE
BEGIN:VEVENT
DTSTART;TZID=America/New_York:20260716T190000
DTEND;TZID=America/New_York:20260716T200000
DTSTAMP:20260419T154312
CREATED:20220311T172036Z
LAST-MODIFIED:20220311T172036Z
UID:21290-1784228400-1784232000@boroughoflitchfield.org
SUMMARY:Historic District Commission
DESCRIPTION:
URL:https://boroughoflitchfield.org/event/historic-district-commission/2026-07-16/
CATEGORIES:HDC
END:VEVENT
BEGIN:VEVENT
DTSTART;TZID=America/New_York:20260721T180000
DTEND;TZID=America/New_York:20260721T200000
DTSTAMP:20260419T154312
CREATED:20220311T171620Z
LAST-MODIFIED:20220311T171620Z
UID:22846-1784656800-1784664000@boroughoflitchfield.org
SUMMARY:Borough of Litchfield Regular Meeting
DESCRIPTION:
URL:https://boroughoflitchfield.org/event/borough-of-litchfield-regular-meeting/2026-07-21/
LOCATION:Litchfield Borough Hall
CATEGORIES:BOL
END:VEVENT
BEGIN:VEVENT
DTSTART;TZID=America/New_York:20260806T190000
DTEND;TZID=America/New_York:20260806T200000
DTSTAMP:20260419T154312
CREATED:20220311T172036Z
LAST-MODIFIED:20220311T172036Z
UID:21289-1786042800-1786046400@boroughoflitchfield.org
SUMMARY:Historic District Commission
DESCRIPTION:
URL:https://boroughoflitchfield.org/event/historic-district-commission/2026-08-06/
CATEGORIES:HDC
END:VEVENT
BEGIN:VEVENT
DTSTART;TZID=America/New_York:20260811T180000
DTEND;TZID=America/New_York:20260811T200000
DTSTAMP:20260419T154312
CREATED:20220311T171620Z
LAST-MODIFIED:20220311T171620Z
UID:21332-1786471200-1786478400@boroughoflitchfield.org
SUMMARY:Borough of Litchfield Regular Meeting
DESCRIPTION:
URL:https://boroughoflitchfield.org/event/borough-of-litchfield-regular-meeting/2026-08-11/
LOCATION:Litchfield Borough Hall
CATEGORIES:BOL
END:VEVENT
BEGIN:VEVENT
DTSTART;TZID=America/New_York:20260820T190000
DTEND;TZID=America/New_York:20260820T200000
DTSTAMP:20260419T154312
CREATED:20220311T172036Z
LAST-MODIFIED:20220311T172036Z
UID:21373-1787252400-1787256000@boroughoflitchfield.org
SUMMARY:Historic District Commission
DESCRIPTION:
URL:https://boroughoflitchfield.org/event/historic-district-commission/2026-08-20/
CATEGORIES:HDC
END:VEVENT
BEGIN:VEVENT
DTSTART;TZID=America/New_York:20260903T190000
DTEND;TZID=America/New_York:20260903T200000
DTSTAMP:20260419T154312
CREATED:20220311T172036Z
LAST-MODIFIED:20240905T220527Z
UID:21372-1788462000-1788465600@boroughoflitchfield.org
SUMMARY:Historic District Commission
DESCRIPTION:
URL:https://boroughoflitchfield.org/event/historic-district-commission-2026-09-03/
CATEGORIES:HDC
END:VEVENT
BEGIN:VEVENT
DTSTART;TZID=America/New_York:20260908T180000
DTEND;TZID=America/New_York:20260908T200000
DTSTAMP:20260419T154312
CREATED:20220311T171620Z
LAST-MODIFIED:20240914T220438Z
UID:21414-1788890400-1788897600@boroughoflitchfield.org
SUMMARY:Borough of Litchfield Regular Meeting
DESCRIPTION:
URL:https://boroughoflitchfield.org/event/borough-of-litchfield-regular-meeting-2026-09-08/
LOCATION:Litchfield Borough Hall
CATEGORIES:BOL
END:VEVENT
BEGIN:VEVENT
DTSTART;TZID=America/New_York:20260917T190000
DTEND;TZID=America/New_York:20260917T200000
DTSTAMP:20260419T154312
CREATED:20220311T172036Z
LAST-MODIFIED:20220311T172036Z
UID:21476-1789671600-1789675200@boroughoflitchfield.org
SUMMARY:Historic District Commission
DESCRIPTION:
URL:https://boroughoflitchfield.org/event/historic-district-commission/2026-09-17/
CATEGORIES:HDC
END:VEVENT
BEGIN:VEVENT
DTSTART;TZID=America/New_York:20261001T190000
DTEND;TZID=America/New_York:20261001T200000
DTSTAMP:20260419T154312
CREATED:20220311T172036Z
LAST-MODIFIED:20220311T172036Z
UID:21475-1790881200-1790884800@boroughoflitchfield.org
SUMMARY:Historic District Commission
DESCRIPTION:
URL:https://boroughoflitchfield.org/event/historic-district-commission/2026-10-01/
CATEGORIES:HDC
END:VEVENT
BEGIN:VEVENT
DTSTART;TZID=America/New_York:20261013T180000
DTEND;TZID=America/New_York:20261013T200000
DTSTAMP:20260419T154312
CREATED:20220311T171620Z
LAST-MODIFIED:20220311T171620Z
UID:21514-1791914400-1791921600@boroughoflitchfield.org
SUMMARY:Borough of Litchfield Regular Meeting
DESCRIPTION:
URL:https://boroughoflitchfield.org/event/borough-of-litchfield-regular-meeting/2026-10-13/
LOCATION:Litchfield Borough Hall
CATEGORIES:BOL
END:VEVENT
BEGIN:VEVENT
DTSTART;TZID=America/New_York:20261015T190000
DTEND;TZID=America/New_York:20261015T200000
DTSTAMP:20260419T154312
CREATED:20220311T172036Z
LAST-MODIFIED:20220311T172036Z
UID:21559-1792090800-1792094400@boroughoflitchfield.org
SUMMARY:Historic District Commission
DESCRIPTION:
URL:https://boroughoflitchfield.org/event/historic-district-commission/2026-10-15/
CATEGORIES:HDC
END:VEVENT
BEGIN:VEVENT
DTSTART;TZID=America/New_York:20261105T190000
DTEND;TZID=America/New_York:20261105T200000
DTSTAMP:20260419T154312
CREATED:20220311T172036Z
LAST-MODIFIED:20220311T172036Z
UID:21558-1793905200-1793908800@boroughoflitchfield.org
SUMMARY:Historic District Commission
DESCRIPTION:
URL:https://boroughoflitchfield.org/event/historic-district-commission/2026-11-05/
CATEGORIES:HDC
END:VEVENT
BEGIN:VEVENT
DTSTART;TZID=America/New_York:20261110T180000
DTEND;TZID=America/New_York:20261110T200000
DTSTAMP:20260419T154312
CREATED:20220311T171620Z
LAST-MODIFIED:20220311T171620Z
UID:21597-1794333600-1794340800@boroughoflitchfield.org
SUMMARY:Borough of Litchfield Regular Meeting
DESCRIPTION:
URL:https://boroughoflitchfield.org/event/borough-of-litchfield-regular-meeting/2026-11-10/
LOCATION:Litchfield Borough Hall
CATEGORIES:BOL
END:VEVENT
BEGIN:VEVENT
DTSTART;TZID=America/New_York:20261119T190000
DTEND;TZID=America/New_York:20261119T200000
DTSTAMP:20260419T154312
CREATED:20220311T172036Z
LAST-MODIFIED:20220311T172036Z
UID:21605-1795114800-1795118400@boroughoflitchfield.org
SUMMARY:Historic District Commission
DESCRIPTION:
URL:https://boroughoflitchfield.org/event/historic-district-commission/2026-11-19/
CATEGORIES:HDC
END:VEVENT
BEGIN:VEVENT
DTSTART;TZID=America/New_York:20261203T190000
DTEND;TZID=America/New_York:20261203T200000
DTSTAMP:20260419T154312
CREATED:20220311T172036Z
LAST-MODIFIED:20220311T172036Z
UID:21604-1796324400-1796328000@boroughoflitchfield.org
SUMMARY:Historic District Commission
DESCRIPTION:
URL:https://boroughoflitchfield.org/event/historic-district-commission/2026-12-03/
CATEGORIES:HDC
END:VEVENT
BEGIN:VEVENT
DTSTART;TZID=America/New_York:20261208T180000
DTEND;TZID=America/New_York:20261208T200000
DTSTAMP:20260419T154312
CREATED:20220311T171620Z
LAST-MODIFIED:20220311T171620Z
UID:21627-1796752800-1796760000@boroughoflitchfield.org
SUMMARY:Borough of Litchfield Regular Meeting
DESCRIPTION:
URL:https://boroughoflitchfield.org/event/borough-of-litchfield-regular-meeting/2026-12-08/
LOCATION:Litchfield Borough Hall
CATEGORIES:BOL
END:VEVENT
BEGIN:VEVENT
DTSTART;TZID=America/New_York:20261217T190000
DTEND;TZID=America/New_York:20261217T200000
DTSTAMP:20260419T154312
CREATED:20220311T172036Z
LAST-MODIFIED:20220311T172036Z
UID:21716-1797534000-1797537600@boroughoflitchfield.org
SUMMARY:Historic District Commission
DESCRIPTION:
URL:https://boroughoflitchfield.org/event/historic-district-commission/2026-12-17/
CATEGORIES:HDC
END:VEVENT
BEGIN:VEVENT
DTSTART;TZID=America/New_York:20270107T190000
DTEND;TZID=America/New_York:20270107T200000
DTSTAMP:20260419T154312
CREATED:20220311T172036Z
LAST-MODIFIED:20220311T172036Z
UID:21715-1799348400-1799352000@boroughoflitchfield.org
SUMMARY:Historic District Commission
DESCRIPTION:
URL:https://boroughoflitchfield.org/event/historic-district-commission/2027-01-07/
CATEGORIES:HDC
END:VEVENT
BEGIN:VEVENT
DTSTART;TZID=America/New_York:20270112T180000
DTEND;TZID=America/New_York:20270112T200000
DTSTAMP:20260419T154312
CREATED:20220311T171620Z
LAST-MODIFIED:20220311T171620Z
UID:21739-1799776800-1799784000@boroughoflitchfield.org
SUMMARY:Borough of Litchfield Regular Meeting
DESCRIPTION:
URL:https://boroughoflitchfield.org/event/borough-of-litchfield-regular-meeting/2027-01-12/
LOCATION:Litchfield Borough Hall
CATEGORIES:BOL
END:VEVENT
BEGIN:VEVENT
DTSTART;TZID=America/New_York:20270121T190000
DTEND;TZID=America/New_York:20270121T200000
DTSTAMP:20260419T154312
CREATED:20220311T172036Z
LAST-MODIFIED:20220311T172036Z
UID:21762-1800558000-1800561600@boroughoflitchfield.org
SUMMARY:Historic District Commission
DESCRIPTION:
URL:https://boroughoflitchfield.org/event/historic-district-commission/2027-01-21/
CATEGORIES:HDC
END:VEVENT
BEGIN:VEVENT
DTSTART;TZID=America/New_York:20270204T190000
DTEND;TZID=America/New_York:20270204T200000
DTSTAMP:20260419T154312
CREATED:20220311T172036Z
LAST-MODIFIED:20220311T172036Z
UID:21761-1801767600-1801771200@boroughoflitchfield.org
SUMMARY:Historic District Commission
DESCRIPTION:
URL:https://boroughoflitchfield.org/event/historic-district-commission/2027-02-04/
CATEGORIES:HDC
END:VEVENT
BEGIN:VEVENT
DTSTART;TZID=America/New_York:20270209T180000
DTEND;TZID=America/New_York:20270209T200000
DTSTAMP:20260419T154312
CREATED:20220311T171620Z
LAST-MODIFIED:20220311T171620Z
UID:21777-1802196000-1802203200@boroughoflitchfield.org
SUMMARY:Borough of Litchfield Regular Meeting
DESCRIPTION:
URL:https://boroughoflitchfield.org/event/borough-of-litchfield-regular-meeting/2027-02-09/
LOCATION:Litchfield Borough Hall
CATEGORIES:BOL
END:VEVENT
BEGIN:VEVENT
DTSTART;TZID=America/New_York:20270218T190000
DTEND;TZID=America/New_York:20270218T200000
DTSTAMP:20260419T154312
CREATED:20220311T172036Z
LAST-MODIFIED:20220311T172036Z
UID:21853-1802977200-1802980800@boroughoflitchfield.org
SUMMARY:Historic District Commission
DESCRIPTION:
URL:https://boroughoflitchfield.org/event/historic-district-commission/2027-02-18/
CATEGORIES:HDC
END:VEVENT
BEGIN:VEVENT
DTSTART;TZID=America/New_York:20270304T190000
DTEND;TZID=America/New_York:20270304T200000
DTSTAMP:20260419T154312
CREATED:20220311T172036Z
LAST-MODIFIED:20220311T172036Z
UID:21852-1804186800-1804190400@boroughoflitchfield.org
SUMMARY:Historic District Commission
DESCRIPTION:
URL:https://boroughoflitchfield.org/event/historic-district-commission/2027-03-04/
CATEGORIES:HDC
END:VEVENT
BEGIN:VEVENT
DTSTART;TZID=America/New_York:20270309T180000
DTEND;TZID=America/New_York:20270309T200000
DTSTAMP:20260419T154312
CREATED:20220311T171620Z
LAST-MODIFIED:20220311T171620Z
UID:21868-1804615200-1804622400@boroughoflitchfield.org
SUMMARY:Borough of Litchfield Regular Meeting
DESCRIPTION:
URL:https://boroughoflitchfield.org/event/borough-of-litchfield-regular-meeting/2027-03-09/
LOCATION:Litchfield Borough Hall
CATEGORIES:BOL
END:VEVENT
BEGIN:VEVENT
DTSTART;TZID=America/New_York:20270318T190000
DTEND;TZID=America/New_York:20270318T200000
DTSTAMP:20260419T154312
CREATED:20220311T172036Z
LAST-MODIFIED:20220311T172036Z
UID:21987-1805396400-1805400000@boroughoflitchfield.org
SUMMARY:Historic District Commission
DESCRIPTION:
URL:https://boroughoflitchfield.org/event/historic-district-commission/2027-03-18/
CATEGORIES:HDC
END:VEVENT
BEGIN:VEVENT
DTSTART;TZID=America/New_York:20270401T190000
DTEND;TZID=America/New_York:20270401T200000
DTSTAMP:20260419T154312
CREATED:20220311T172036Z
LAST-MODIFIED:20220311T172036Z
UID:21986-1806606000-1806609600@boroughoflitchfield.org
SUMMARY:Historic District Commission
DESCRIPTION:
URL:https://boroughoflitchfield.org/event/historic-district-commission/2027-04-01/
CATEGORIES:HDC
END:VEVENT
BEGIN:VEVENT
DTSTART;TZID=America/New_York:20270413T180000
DTEND;TZID=America/New_York:20270413T200000
DTSTAMP:20260419T154312
CREATED:20220311T171620Z
LAST-MODIFIED:20220311T171620Z
UID:22050-1807639200-1807646400@boroughoflitchfield.org
SUMMARY:Borough of Litchfield Regular Meeting
DESCRIPTION:
URL:https://boroughoflitchfield.org/event/borough-of-litchfield-regular-meeting/2027-04-13/
LOCATION:Litchfield Borough Hall
CATEGORIES:BOL
END:VEVENT
BEGIN:VEVENT
DTSTART;TZID=America/New_York:20270415T190000
DTEND;TZID=America/New_York:20270415T200000
DTSTAMP:20260419T154312
CREATED:20220311T172036Z
LAST-MODIFIED:20220311T172036Z
UID:22100-1807815600-1807819200@boroughoflitchfield.org
SUMMARY:Historic District Commission
DESCRIPTION:
URL:https://boroughoflitchfield.org/event/historic-district-commission/2027-04-15/
CATEGORIES:HDC
END:VEVENT
BEGIN:VEVENT
DTSTART;TZID=America/New_York:20270506T190000
DTEND;TZID=America/New_York:20270506T200000
DTSTAMP:20260419T154312
CREATED:20220311T172036Z
LAST-MODIFIED:20220311T172036Z
UID:22099-1809630000-1809633600@boroughoflitchfield.org
SUMMARY:Historic District Commission
DESCRIPTION:
URL:https://boroughoflitchfield.org/event/historic-district-commission/2027-05-06/
CATEGORIES:HDC
END:VEVENT
END:VCALENDAR