BEGIN:VCALENDAR
VERSION:2.0
PRODID:-//Borough of Litchfield - ECPv6.15.20//NONSGML v1.0//EN
CALSCALE:GREGORIAN
METHOD:PUBLISH
X-ORIGINAL-URL:https://boroughoflitchfield.org
X-WR-CALDESC:Events for Borough of Litchfield
REFRESH-INTERVAL;VALUE=DURATION:PT1H
X-Robots-Tag:noindex
X-PUBLISHED-TTL:PT1H
BEGIN:VTIMEZONE
TZID:America/New_York
BEGIN:DAYLIGHT
TZOFFSETFROM:-0500
TZOFFSETTO:-0400
TZNAME:EDT
DTSTART:20260308T070000
END:DAYLIGHT
BEGIN:STANDARD
TZOFFSETFROM:-0400
TZOFFSETTO:-0500
TZNAME:EST
DTSTART:20261101T060000
END:STANDARD
BEGIN:DAYLIGHT
TZOFFSETFROM:-0500
TZOFFSETTO:-0400
TZNAME:EDT
DTSTART:20270314T070000
END:DAYLIGHT
BEGIN:STANDARD
TZOFFSETFROM:-0400
TZOFFSETTO:-0500
TZNAME:EST
DTSTART:20271107T060000
END:STANDARD
BEGIN:DAYLIGHT
TZOFFSETFROM:-0500
TZOFFSETTO:-0400
TZNAME:EDT
DTSTART:20280312T070000
END:DAYLIGHT
BEGIN:STANDARD
TZOFFSETFROM:-0400
TZOFFSETTO:-0500
TZNAME:EST
DTSTART:20281105T060000
END:STANDARD
BEGIN:DAYLIGHT
TZOFFSETFROM:-0500
TZOFFSETTO:-0400
TZNAME:EDT
DTSTART:20290311T070000
END:DAYLIGHT
BEGIN:STANDARD
TZOFFSETFROM:-0400
TZOFFSETTO:-0500
TZNAME:EST
DTSTART:20291104T060000
END:STANDARD
END:VTIMEZONE
BEGIN:VEVENT
DTSTART;TZID=America/New_York:20270819T190000
DTEND;TZID=America/New_York:20270819T200000
DTSTAMP:20260420T002340
CREATED:20220311T172036Z
LAST-MODIFIED:20220311T172036Z
UID:22423-1818702000-1818705600@boroughoflitchfield.org
SUMMARY:Historic District Commission
DESCRIPTION:
URL:https://boroughoflitchfield.org/event/historic-district-commission/2027-08-19/
CATEGORIES:HDC
END:VEVENT
BEGIN:VEVENT
DTSTART;TZID=America/New_York:20270902T190000
DTEND;TZID=America/New_York:20270902T200000
DTSTAMP:20260420T002340
CREATED:20220311T172036Z
LAST-MODIFIED:20220311T172036Z
UID:22422-1819911600-1819915200@boroughoflitchfield.org
SUMMARY:Historic District Commission
DESCRIPTION:
URL:https://boroughoflitchfield.org/event/historic-district-commission/2027-09-02/
CATEGORIES:HDC
END:VEVENT
BEGIN:VEVENT
DTSTART;TZID=America/New_York:20270914T180000
DTEND;TZID=America/New_York:20270914T200000
DTSTAMP:20260420T002340
CREATED:20220311T171620Z
LAST-MODIFIED:20220311T171620Z
UID:22454-1820944800-1820952000@boroughoflitchfield.org
SUMMARY:Borough of Litchfield Regular Meeting
DESCRIPTION:
URL:https://boroughoflitchfield.org/event/borough-of-litchfield-regular-meeting/2027-09-14/
LOCATION:Litchfield Borough Hall
CATEGORIES:BOL
END:VEVENT
BEGIN:VEVENT
DTSTART;TZID=America/New_York:20270916T190000
DTEND;TZID=America/New_York:20270916T200000
DTSTAMP:20260420T002340
CREATED:20220311T172036Z
LAST-MODIFIED:20220311T172036Z
UID:22502-1821121200-1821124800@boroughoflitchfield.org
SUMMARY:Historic District Commission
DESCRIPTION:
URL:https://boroughoflitchfield.org/event/historic-district-commission/2027-09-16/
CATEGORIES:HDC
END:VEVENT
BEGIN:VEVENT
DTSTART;TZID=America/New_York:20271007T190000
DTEND;TZID=America/New_York:20271007T200000
DTSTAMP:20260420T002340
CREATED:20220311T172036Z
LAST-MODIFIED:20220311T172036Z
UID:22501-1822935600-1822939200@boroughoflitchfield.org
SUMMARY:Historic District Commission
DESCRIPTION:
URL:https://boroughoflitchfield.org/event/historic-district-commission/2027-10-07/
CATEGORIES:HDC
END:VEVENT
BEGIN:VEVENT
DTSTART;TZID=America/New_York:20271012T180000
DTEND;TZID=America/New_York:20271012T200000
DTSTAMP:20260420T002340
CREATED:20220311T171620Z
LAST-MODIFIED:20220311T171620Z
UID:22509-1823364000-1823371200@boroughoflitchfield.org
SUMMARY:Borough of Litchfield Regular Meeting
DESCRIPTION:
URL:https://boroughoflitchfield.org/event/borough-of-litchfield-regular-meeting/2027-10-12/
LOCATION:Litchfield Borough Hall
CATEGORIES:BOL
END:VEVENT
BEGIN:VEVENT
DTSTART;TZID=America/New_York:20271021T190000
DTEND;TZID=America/New_York:20271021T200000
DTSTAMP:20260420T002340
CREATED:20220311T172036Z
LAST-MODIFIED:20220311T172036Z
UID:22546-1824145200-1824148800@boroughoflitchfield.org
SUMMARY:Historic District Commission
DESCRIPTION:
URL:https://boroughoflitchfield.org/event/historic-district-commission/2027-10-21/
CATEGORIES:HDC
END:VEVENT
BEGIN:VEVENT
DTSTART;TZID=America/New_York:20271104T190000
DTEND;TZID=America/New_York:20271104T200000
DTSTAMP:20260420T002340
CREATED:20220311T172036Z
LAST-MODIFIED:20220311T172036Z
UID:22545-1825354800-1825358400@boroughoflitchfield.org
SUMMARY:Historic District Commission
DESCRIPTION:
URL:https://boroughoflitchfield.org/event/historic-district-commission/2027-11-04/
CATEGORIES:HDC
END:VEVENT
BEGIN:VEVENT
DTSTART;TZID=America/New_York:20271109T180000
DTEND;TZID=America/New_York:20271109T200000
DTSTAMP:20260420T002340
CREATED:20220311T171620Z
LAST-MODIFIED:20220311T171620Z
UID:22558-1825783200-1825790400@boroughoflitchfield.org
SUMMARY:Borough of Litchfield Regular Meeting
DESCRIPTION:
URL:https://boroughoflitchfield.org/event/borough-of-litchfield-regular-meeting/2027-11-09/
LOCATION:Litchfield Borough Hall
CATEGORIES:BOL
END:VEVENT
BEGIN:VEVENT
DTSTART;TZID=America/New_York:20271118T190000
DTEND;TZID=America/New_York:20271118T200000
DTSTAMP:20260420T002340
CREATED:20220311T172036Z
LAST-MODIFIED:20220311T172036Z
UID:22600-1826564400-1826568000@boroughoflitchfield.org
SUMMARY:Historic District Commission
DESCRIPTION:
URL:https://boroughoflitchfield.org/event/historic-district-commission/2027-11-18/
CATEGORIES:HDC
END:VEVENT
BEGIN:VEVENT
DTSTART;TZID=America/New_York:20271202T190000
DTEND;TZID=America/New_York:20271202T200000
DTSTAMP:20260420T002340
CREATED:20220311T172036Z
LAST-MODIFIED:20220311T172036Z
UID:22599-1827774000-1827777600@boroughoflitchfield.org
SUMMARY:Historic District Commission
DESCRIPTION:
URL:https://boroughoflitchfield.org/event/historic-district-commission/2027-12-02/
CATEGORIES:HDC
END:VEVENT
BEGIN:VEVENT
DTSTART;TZID=America/New_York:20271214T180000
DTEND;TZID=America/New_York:20271214T200000
DTSTAMP:20260420T002340
CREATED:20220311T171620Z
LAST-MODIFIED:20220311T171620Z
UID:22635-1828807200-1828814400@boroughoflitchfield.org
SUMMARY:Borough of Litchfield Regular Meeting
DESCRIPTION:
URL:https://boroughoflitchfield.org/event/borough-of-litchfield-regular-meeting/2027-12-14/
LOCATION:Litchfield Borough Hall
CATEGORIES:BOL
END:VEVENT
BEGIN:VEVENT
DTSTART;TZID=America/New_York:20271216T190000
DTEND;TZID=America/New_York:20271216T200000
DTSTAMP:20260420T002340
CREATED:20220311T172036Z
LAST-MODIFIED:20220311T172036Z
UID:22714-1828983600-1828987200@boroughoflitchfield.org
SUMMARY:Historic District Commission
DESCRIPTION:
URL:https://boroughoflitchfield.org/event/historic-district-commission/2027-12-16/
CATEGORIES:HDC
END:VEVENT
BEGIN:VEVENT
DTSTART;TZID=America/New_York:20280106T190000
DTEND;TZID=America/New_York:20280106T200000
DTSTAMP:20260420T002340
CREATED:20220311T172036Z
LAST-MODIFIED:20220311T172036Z
UID:22713-1830798000-1830801600@boroughoflitchfield.org
SUMMARY:Historic District Commission
DESCRIPTION:
URL:https://boroughoflitchfield.org/event/historic-district-commission/2028-01-06/
CATEGORIES:HDC
END:VEVENT
BEGIN:VEVENT
DTSTART;TZID=America/New_York:20280111T180000
DTEND;TZID=America/New_York:20280111T200000
DTSTAMP:20260420T002340
CREATED:20220311T171620Z
LAST-MODIFIED:20220311T171620Z
UID:22741-1831226400-1831233600@boroughoflitchfield.org
SUMMARY:Borough of Litchfield Regular Meeting
DESCRIPTION:
URL:https://boroughoflitchfield.org/event/borough-of-litchfield-regular-meeting/2028-01-11/
LOCATION:Litchfield Borough Hall
CATEGORIES:BOL
END:VEVENT
BEGIN:VEVENT
DTSTART;TZID=America/New_York:20280120T190000
DTEND;TZID=America/New_York:20280120T200000
DTSTAMP:20260420T002340
CREATED:20220311T172036Z
LAST-MODIFIED:20220311T172036Z
UID:22796-1832007600-1832011200@boroughoflitchfield.org
SUMMARY:Historic District Commission
DESCRIPTION:
URL:https://boroughoflitchfield.org/event/historic-district-commission/2028-01-20/
CATEGORIES:HDC
END:VEVENT
BEGIN:VEVENT
DTSTART;TZID=America/New_York:20280203T190000
DTEND;TZID=America/New_York:20280203T200000
DTSTAMP:20260420T002340
CREATED:20220311T172036Z
LAST-MODIFIED:20220311T172036Z
UID:22795-1833217200-1833220800@boroughoflitchfield.org
SUMMARY:Historic District Commission
DESCRIPTION:
URL:https://boroughoflitchfield.org/event/historic-district-commission/2028-02-03/
CATEGORIES:HDC
END:VEVENT
BEGIN:VEVENT
DTSTART;TZID=America/New_York:20280208T180000
DTEND;TZID=America/New_York:20280208T200000
DTSTAMP:20260420T002340
CREATED:20220311T171620Z
LAST-MODIFIED:20220311T171620Z
UID:22808-1833645600-1833652800@boroughoflitchfield.org
SUMMARY:Borough of Litchfield Regular Meeting
DESCRIPTION:
URL:https://boroughoflitchfield.org/event/borough-of-litchfield-regular-meeting/2028-02-08/
LOCATION:Litchfield Borough Hall
CATEGORIES:BOL
END:VEVENT
BEGIN:VEVENT
DTSTART;TZID=America/New_York:20280217T190000
DTEND;TZID=America/New_York:20280217T200000
DTSTAMP:20260420T002340
CREATED:20220311T172036Z
LAST-MODIFIED:20220311T172036Z
UID:22880-1834426800-1834430400@boroughoflitchfield.org
SUMMARY:Historic District Commission
DESCRIPTION:
URL:https://boroughoflitchfield.org/event/historic-district-commission/2028-02-17/
CATEGORIES:HDC
END:VEVENT
BEGIN:VEVENT
DTSTART;TZID=America/New_York:20280302T190000
DTEND;TZID=America/New_York:20280302T200000
DTSTAMP:20260420T002340
CREATED:20220311T172036Z
LAST-MODIFIED:20220311T172036Z
UID:22879-1835636400-1835640000@boroughoflitchfield.org
SUMMARY:Historic District Commission
DESCRIPTION:
URL:https://boroughoflitchfield.org/event/historic-district-commission/2028-03-02/
CATEGORIES:HDC
END:VEVENT
BEGIN:VEVENT
DTSTART;TZID=America/New_York:20280314T180000
DTEND;TZID=America/New_York:20280314T200000
DTSTAMP:20260420T002340
CREATED:20220311T171620Z
LAST-MODIFIED:20220311T171620Z
UID:22906-1836669600-1836676800@boroughoflitchfield.org
SUMMARY:Borough of Litchfield Regular Meeting
DESCRIPTION:
URL:https://boroughoflitchfield.org/event/borough-of-litchfield-regular-meeting/2028-03-14/
LOCATION:Litchfield Borough Hall
CATEGORIES:BOL
END:VEVENT
BEGIN:VEVENT
DTSTART;TZID=America/New_York:20280316T190000
DTEND;TZID=America/New_York:20280316T200000
DTSTAMP:20260420T002340
CREATED:20220311T172036Z
LAST-MODIFIED:20220311T172036Z
UID:22968-1836846000-1836849600@boroughoflitchfield.org
SUMMARY:Historic District Commission
DESCRIPTION:
URL:https://boroughoflitchfield.org/event/historic-district-commission/2028-03-16/
CATEGORIES:HDC
END:VEVENT
BEGIN:VEVENT
DTSTART;TZID=America/New_York:20280406T190000
DTEND;TZID=America/New_York:20280406T200000
DTSTAMP:20260420T002340
CREATED:20220311T172036Z
LAST-MODIFIED:20220311T172036Z
UID:22967-1838660400-1838664000@boroughoflitchfield.org
SUMMARY:Historic District Commission
DESCRIPTION:
URL:https://boroughoflitchfield.org/event/historic-district-commission/2028-04-06/
CATEGORIES:HDC
END:VEVENT
BEGIN:VEVENT
DTSTART;TZID=America/New_York:20280411T180000
DTEND;TZID=America/New_York:20280411T200000
DTSTAMP:20260420T002340
CREATED:20220311T171620Z
LAST-MODIFIED:20220311T171620Z
UID:23005-1839088800-1839096000@boroughoflitchfield.org
SUMMARY:Borough of Litchfield Regular Meeting
DESCRIPTION:
URL:https://boroughoflitchfield.org/event/borough-of-litchfield-regular-meeting/2028-04-11/
LOCATION:Litchfield Borough Hall
CATEGORIES:BOL
END:VEVENT
END:VCALENDAR