BEGIN:VCALENDAR
VERSION:2.0
PRODID:-//Borough of Litchfield - ECPv6.15.20//NONSGML v1.0//EN
CALSCALE:GREGORIAN
METHOD:PUBLISH
X-WR-CALNAME:Borough of Litchfield
X-ORIGINAL-URL:https://boroughoflitchfield.org
X-WR-CALDESC:Events for Borough of Litchfield
REFRESH-INTERVAL;VALUE=DURATION:PT1H
X-Robots-Tag:noindex
X-PUBLISHED-TTL:PT1H
BEGIN:VTIMEZONE
TZID:America/New_York
BEGIN:DAYLIGHT
TZOFFSETFROM:-0500
TZOFFSETTO:-0400
TZNAME:EDT
DTSTART:20210314T070000
END:DAYLIGHT
BEGIN:STANDARD
TZOFFSETFROM:-0400
TZOFFSETTO:-0500
TZNAME:EST
DTSTART:20211107T060000
END:STANDARD
BEGIN:DAYLIGHT
TZOFFSETFROM:-0500
TZOFFSETTO:-0400
TZNAME:EDT
DTSTART:20220313T070000
END:DAYLIGHT
BEGIN:STANDARD
TZOFFSETFROM:-0400
TZOFFSETTO:-0500
TZNAME:EST
DTSTART:20221106T060000
END:STANDARD
BEGIN:DAYLIGHT
TZOFFSETFROM:-0500
TZOFFSETTO:-0400
TZNAME:EDT
DTSTART:20230312T070000
END:DAYLIGHT
BEGIN:STANDARD
TZOFFSETFROM:-0400
TZOFFSETTO:-0500
TZNAME:EST
DTSTART:20231105T060000
END:STANDARD
BEGIN:DAYLIGHT
TZOFFSETFROM:-0500
TZOFFSETTO:-0400
TZNAME:EDT
DTSTART:20240310T070000
END:DAYLIGHT
BEGIN:STANDARD
TZOFFSETFROM:-0400
TZOFFSETTO:-0500
TZNAME:EST
DTSTART:20241103T060000
END:STANDARD
BEGIN:DAYLIGHT
TZOFFSETFROM:-0500
TZOFFSETTO:-0400
TZNAME:EDT
DTSTART:20250309T070000
END:DAYLIGHT
BEGIN:STANDARD
TZOFFSETFROM:-0400
TZOFFSETTO:-0500
TZNAME:EST
DTSTART:20251102T060000
END:STANDARD
END:VTIMEZONE
BEGIN:VEVENT
DTSTART;TZID=America/New_York:20240606T190000
DTEND;TZID=America/New_York:20240606T200000
DTSTAMP:20260419T202138
CREATED:20220311T172036Z
LAST-MODIFIED:20220311T172036Z
UID:13460-1717700400-1717704000@boroughoflitchfield.org
SUMMARY:Historic District Commission
DESCRIPTION:
URL:https://boroughoflitchfield.org/event/historic-district-commission/2024-06-06/
CATEGORIES:HDC
END:VEVENT
BEGIN:VEVENT
DTSTART;TZID=America/New_York:20240604T180000
DTEND;TZID=America/New_York:20240604T190000
DTSTAMP:20260419T202138
CREATED:20240417T011515Z
LAST-MODIFIED:20240523T211304Z
UID:13382-1717524000-1717527600@boroughoflitchfield.org
SUMMARY:Boroughs Annual Meeting
DESCRIPTION:
URL:https://boroughoflitchfield.org/event/boroughs-annual-meeting/
CATEGORIES:BOL
END:VEVENT
BEGIN:VEVENT
DTSTART;TZID=America/New_York:20240516T190000
DTEND;TZID=America/New_York:20240516T200000
DTSTAMP:20260419T202138
CREATED:20220311T172036Z
LAST-MODIFIED:20220311T172036Z
UID:13459-1715886000-1715889600@boroughoflitchfield.org
SUMMARY:Historic District Commission
DESCRIPTION:
URL:https://boroughoflitchfield.org/event/historic-district-commission/2024-05-16/
CATEGORIES:HDC
END:VEVENT
BEGIN:VEVENT
DTSTART;TZID=America/New_York:20240514T180000
DTEND;TZID=America/New_York:20240514T200000
DTSTAMP:20260419T202138
CREATED:20220311T171620Z
LAST-MODIFIED:20260224T214459Z
UID:1154-1715709600-1715716800@boroughoflitchfield.org
SUMMARY:Borough of Litchfield Regular Meeting
DESCRIPTION:
URL:https://boroughoflitchfield.org/event/borough-of-litchfield-regular-meeting/2024-05-14/
LOCATION:Litchfield Borough Hall
CATEGORIES:BOL
END:VEVENT
BEGIN:VEVENT
DTSTART;TZID=America/New_York:20240514T174500
DTEND;TZID=America/New_York:20240514T180000
DTSTAMP:20260419T202138
CREATED:20240512T230109Z
LAST-MODIFIED:20240512T230109Z
UID:13562-1715708700-1715709600@boroughoflitchfield.org
SUMMARY:BAA Meeting
DESCRIPTION:
URL:https://boroughoflitchfield.org/event/baa-meeting/
CATEGORIES:BOL
END:VEVENT
BEGIN:VEVENT
DTSTART;TZID=America/New_York:20240502T190000
DTEND;TZID=America/New_York:20240502T200000
DTSTAMP:20260419T202138
CREATED:20220311T172036Z
LAST-MODIFIED:20220311T172036Z
UID:13458-1714676400-1714680000@boroughoflitchfield.org
SUMMARY:Historic District Commission
DESCRIPTION:
URL:https://boroughoflitchfield.org/event/historic-district-commission/2024-05-02/
CATEGORIES:HDC
END:VEVENT
BEGIN:VEVENT
DTSTART;TZID=America/New_York:20240109T180000
DTEND;TZID=America/New_York:20240109T200000
DTSTAMP:20260419T202138
CREATED:20220311T171620Z
LAST-MODIFIED:20240109T205446Z
UID:1150-1704823200-1704830400@boroughoflitchfield.org
SUMMARY:**Cancelled**Borough of Litchfield Regular Meeting
DESCRIPTION:this meeting will be rescheduled.
URL:https://boroughoflitchfield.org/event/borough-of-litchfield-regular-meeting-2024-01-09/
LOCATION:Litchfield Borough Hall
CATEGORIES:BOL
END:VEVENT
BEGIN:VEVENT
DTSTART;TZID=America/New_York:20231116T190000
DTEND;TZID=America/New_York:20231116T210000
DTSTAMP:20260419T202138
CREATED:20230927T020804Z
LAST-MODIFIED:20230927T020923Z
UID:2149-1700161200-1700168400@boroughoflitchfield.org
SUMMARY:HDC Meeting
DESCRIPTION:
URL:https://boroughoflitchfield.org/event/hdc-meeting-6/
CATEGORIES:HDC
END:VEVENT
BEGIN:VEVENT
DTSTART;TZID=America/New_York:20231102T190000
DTEND;TZID=America/New_York:20231102T210000
DTSTAMP:20260419T202138
CREATED:20230927T021326Z
LAST-MODIFIED:20230927T021326Z
UID:2155-1698951600-1698958800@boroughoflitchfield.org
SUMMARY:HDC Meeting
DESCRIPTION:
URL:https://boroughoflitchfield.org/event/hdc-meeting-8/
CATEGORIES:HDC
END:VEVENT
BEGIN:VEVENT
DTSTART;TZID=America/New_York:20231019T190000
DTEND;TZID=America/New_York:20231019T210000
DTSTAMP:20260419T202138
CREATED:20230927T021107Z
LAST-MODIFIED:20230927T021107Z
UID:2153-1697742000-1697749200@boroughoflitchfield.org
SUMMARY:HDC Meeting
DESCRIPTION:
URL:https://boroughoflitchfield.org/event/hdc-meeting-7/
CATEGORIES:HDC
END:VEVENT
BEGIN:VEVENT
DTSTART;TZID=America/New_York:20231005T190000
DTEND;TZID=America/New_York:20231005T210000
DTSTAMP:20260419T202138
CREATED:20230927T015714Z
LAST-MODIFIED:20230927T015714Z
UID:2147-1696532400-1696539600@boroughoflitchfield.org
SUMMARY:HDC Meeting
DESCRIPTION:
URL:https://boroughoflitchfield.org/event/hdc-meeting-5/
CATEGORIES:HDC
END:VEVENT
BEGIN:VEVENT
DTSTART;TZID=America/New_York:20230720T190000
DTEND;TZID=America/New_York:20230720T190000
DTSTAMP:20260419T202138
CREATED:20230517T005400Z
LAST-MODIFIED:20230517T005400Z
UID:1862-1689879600-1689879600@boroughoflitchfield.org
SUMMARY:HDC Meeting
DESCRIPTION:
URL:https://boroughoflitchfield.org/event/hdc-meeting-4/
CATEGORIES:HDC
END:VEVENT
BEGIN:VEVENT
DTSTART;TZID=America/New_York:20230706T190000
DTEND;TZID=America/New_York:20230706T190000
DTSTAMP:20260419T202138
CREATED:20230517T005326Z
LAST-MODIFIED:20230706T010540Z
UID:1860-1688670000-1688670000@boroughoflitchfield.org
SUMMARY:HDC Meeting CANCELED
DESCRIPTION:
URL:https://boroughoflitchfield.org/event/hdc-meeting-3/
CATEGORIES:HDC
END:VEVENT
BEGIN:VEVENT
DTSTART;TZID=America/New_York:20230622T190000
DTEND;TZID=America/New_York:20230622T190000
DTSTAMP:20260419T202138
CREATED:20230620T004612Z
LAST-MODIFIED:20230620T004830Z
UID:1947-1687460400-1687460400@boroughoflitchfield.org
SUMMARY:HDC Special Meeting
DESCRIPTION:
URL:https://boroughoflitchfield.org/event/hdc-special-meeting/
CATEGORIES:HDC
END:VEVENT
BEGIN:VEVENT
DTSTART;TZID=America/New_York:20230615T190000
DTEND;TZID=America/New_York:20230615T190000
DTSTAMP:20260419T202138
CREATED:20230517T005243Z
LAST-MODIFIED:20230615T214949Z
UID:1858-1686855600-1686855600@boroughoflitchfield.org
SUMMARY:HDC Meeting
DESCRIPTION:
URL:https://boroughoflitchfield.org/event/hdc-meeting-2/
CATEGORIES:HDC
END:VEVENT
BEGIN:VEVENT
DTSTART;TZID=America/New_York:20230601T190000
DTEND;TZID=America/New_York:20230601T190000
DTSTAMP:20260419T202138
CREATED:20230517T005011Z
LAST-MODIFIED:20230517T005011Z
UID:1856-1685646000-1685646000@boroughoflitchfield.org
SUMMARY:HDC Meeting
DESCRIPTION:
URL:https://boroughoflitchfield.org/event/hdc-meeting/
END:VEVENT
BEGIN:VEVENT
DTSTART;TZID=America/New_York:20230601T174500
DTEND;TZID=America/New_York:20230601T174500
DTSTAMP:20260419T202138
CREATED:20230510T113927Z
LAST-MODIFIED:20230517T004900Z
UID:1830-1685641500-1685641500@boroughoflitchfield.org
SUMMARY:BOL Annual Meeting and Budget Vote
DESCRIPTION:
URL:https://boroughoflitchfield.org/event/bol-annual-meeting-and-budget-vote/
END:VEVENT
BEGIN:VEVENT
DTSTART;TZID=America/New_York:20230518T190000
DTEND;TZID=America/New_York:20230518T200000
DTSTAMP:20260419T202138
CREATED:20230120T003831Z
LAST-MODIFIED:20230120T003831Z
UID:1608-1684436400-1684440000@boroughoflitchfield.org
SUMMARY:Historic District Commission
DESCRIPTION:
URL:https://boroughoflitchfield.org/event/historic-district-commission-8/
CATEGORIES:HDC
END:VEVENT
BEGIN:VEVENT
DTSTART;TZID=America/New_York:20230509T173000
DTEND;TZID=America/New_York:20230509T180000
DTSTAMP:20260419T202138
CREATED:20230509T164909Z
LAST-MODIFIED:20230509T164909Z
UID:1815-1683653400-1683655200@boroughoflitchfield.org
SUMMARY:BOL Assessment Appeals Meeting
DESCRIPTION:
URL:https://boroughoflitchfield.org/event/bol-assessment-appeals-meeting/
END:VEVENT
BEGIN:VEVENT
DTSTART;TZID=America/New_York:20230504T190000
DTEND;TZID=America/New_York:20230504T200000
DTSTAMP:20260419T202138
CREATED:20230120T003139Z
LAST-MODIFIED:20230120T003341Z
UID:1605-1683226800-1683230400@boroughoflitchfield.org
SUMMARY:Historic District Commission
DESCRIPTION:
URL:https://boroughoflitchfield.org/event/historic-district-commission-7/
CATEGORIES:HDC
END:VEVENT
BEGIN:VEVENT
DTSTART;TZID=America/New_York:20230420T190000
DTEND;TZID=America/New_York:20230420T200000
DTSTAMP:20260419T202138
CREATED:20230120T002949Z
LAST-MODIFIED:20230120T002949Z
UID:1603-1682017200-1682020800@boroughoflitchfield.org
SUMMARY:Historic District Commission
DESCRIPTION:
URL:https://boroughoflitchfield.org/event/historic-district-commission-6/
CATEGORIES:HDC
END:VEVENT
BEGIN:VEVENT
DTSTART;TZID=America/New_York:20230406T190000
DTEND;TZID=America/New_York:20230406T200000
DTSTAMP:20260419T202138
CREATED:20230120T002906Z
LAST-MODIFIED:20230120T002906Z
UID:1601-1680807600-1680811200@boroughoflitchfield.org
SUMMARY:Historic District Commission
DESCRIPTION:
URL:https://boroughoflitchfield.org/event/historic-district-commission-5/
CATEGORIES:HDC
END:VEVENT
BEGIN:VEVENT
DTSTART;TZID=America/New_York:20230316T190000
DTEND;TZID=America/New_York:20230316T200000
DTSTAMP:20260419T202138
CREATED:20230120T002715Z
LAST-MODIFIED:20230120T002809Z
UID:1598-1678993200-1678996800@boroughoflitchfield.org
SUMMARY:Historic District Commission
DESCRIPTION:
URL:https://boroughoflitchfield.org/event/historic-district-commission-4/
CATEGORIES:HDC
END:VEVENT
BEGIN:VEVENT
DTSTART;TZID=America/New_York:20230302T190000
DTEND;TZID=America/New_York:20230302T200000
DTSTAMP:20260419T202138
CREATED:20230120T002616Z
LAST-MODIFIED:20230120T002616Z
UID:1596-1677783600-1677787200@boroughoflitchfield.org
SUMMARY:Historic District Commission
DESCRIPTION:
URL:https://boroughoflitchfield.org/event/historic-district-commission-3/
CATEGORIES:HDC
END:VEVENT
BEGIN:VEVENT
DTSTART;TZID=America/New_York:20230216T190000
DTEND;TZID=America/New_York:20230216T200000
DTSTAMP:20260419T202138
CREATED:20230120T002507Z
LAST-MODIFIED:20230120T002507Z
UID:1594-1676574000-1676577600@boroughoflitchfield.org
SUMMARY:Historic District Commission
DESCRIPTION:
URL:https://boroughoflitchfield.org/event/historic-district-commission-2/
END:VEVENT
BEGIN:VEVENT
DTSTART;TZID=America/New_York:20230215T180000
DTEND;TZID=America/New_York:20230215T200000
DTSTAMP:20260419T202138
CREATED:20220311T171620Z
LAST-MODIFIED:20230111T152341Z
UID:1139-1676484000-1676491200@boroughoflitchfield.org
SUMMARY:Borough of Litchfield Regular Meeting
DESCRIPTION:
URL:https://boroughoflitchfield.org/event/borough-of-litchfield-regular-meeting-2023-02-14/
LOCATION:Litchfield Borough Hall
CATEGORIES:BOL
END:VEVENT
BEGIN:VEVENT
DTSTART;TZID=America/New_York:20230110T180000
DTEND;TZID=America/New_York:20230110T200000
DTSTAMP:20260419T202138
CREATED:20220311T171620Z
LAST-MODIFIED:20230109T132025Z
UID:1138-1673373600-1673380800@boroughoflitchfield.org
SUMMARY:Borough of Litchfield Regular Meeting
DESCRIPTION:Topic: Regular Meeting\nTime: Jan 10\, 2023 06:00 PM Eastern Time (US and Canada) \nJoin Zoom Meeting\nhttps://us02web.zoom.us/j/82874632356?pwd=YkZXTytvMnJLa3h6ZTRuSXdDUHJvUT09 \nMeeting ID: 828 7463 2356\nPasscode: 454136\nOne tap mobile\n+13017158592\,\,82874632356#\,\,\,\,*454136# US (Washington DC)\n+13052241968\,\,82874632356#\,\,\,\,*454136# US \nDial by your location\n+1 301 715 8592 US (Washington DC)\n+1 305 224 1968 US\n+1 309 205 3325 US\n+1 312 626 6799 US (Chicago)\n+1 646 931 3860 US\n+1 929 205 6099 US (New York)\n+1 253 215 8782 US (Tacoma)\n+1 346 248 7799 US (Houston)\n+1 360 209 5623 US\n+1 386 347 5053 US\n+1 507 473 4847 US\n+1 564 217 2000 US\n+1 669 444 9171 US\n+1 669 900 6833 US (San Jose)\n+1 689 278 1000 US\n+1 719 359 4580 US\n+1 253 205 0468 US\nMeeting ID: 828 7463 2356\nPasscode: 454136\nFind your local number: https://us02web.zoom.us/u/kp4Ss5P7t
URL:https://boroughoflitchfield.org/event/borough-of-litchfield-regular-meeting-2023-01-10/
LOCATION:Litchfield Borough Hall
CATEGORIES:BOL
END:VEVENT
BEGIN:VEVENT
DTSTART;TZID=America/New_York:20221219T180000
DTEND;TZID=America/New_York:20221219T190000
DTSTAMP:20260419T202138
CREATED:20221217T203409Z
LAST-MODIFIED:20221217T203409Z
UID:1513-1671472800-1671476400@boroughoflitchfield.org
SUMMARY:BOL Special Meeting
DESCRIPTION:
URL:https://boroughoflitchfield.org/event/bol-special-meeting-2/
END:VEVENT
BEGIN:VEVENT
DTSTART;TZID=America/New_York:20221215T180000
DTEND;TZID=America/New_York:20221215T190000
DTSTAMP:20260419T202138
CREATED:20221215T185053Z
LAST-MODIFIED:20221215T185053Z
UID:1505-1671127200-1671130800@boroughoflitchfield.org
SUMMARY:Litchfield Green Usage Committee
DESCRIPTION:
URL:https://boroughoflitchfield.org/event/litchfield-green-usage-committee/
END:VEVENT
BEGIN:VEVENT
DTSTART;TZID=America/New_York:20220830T183000
DTEND;TZID=America/New_York:20220830T183000
DTSTAMP:20260419T202138
CREATED:20220826T150339Z
LAST-MODIFIED:20220826T150339Z
UID:1370-1661884200-1661884200@boroughoflitchfield.org
SUMMARY:BoL Special Meeting - Discussion of Heritage Plan with Dirk Patterson
DESCRIPTION:
URL:https://boroughoflitchfield.org/event/bol-special-meeting-discussion-of-heritage-plan-with-dirk-patterson/
LOCATION:Litchfield Borough Hall
CATEGORIES:BOL
END:VEVENT
END:VCALENDAR