BEGIN:VCALENDAR
VERSION:2.0
PRODID:-//Borough of Litchfield - ECPv6.15.20//NONSGML v1.0//EN
CALSCALE:GREGORIAN
METHOD:PUBLISH
X-ORIGINAL-URL:https://boroughoflitchfield.org
X-WR-CALDESC:Events for Borough of Litchfield
REFRESH-INTERVAL;VALUE=DURATION:PT1H
X-Robots-Tag:noindex
X-PUBLISHED-TTL:PT1H
BEGIN:VTIMEZONE
TZID:America/New_York
BEGIN:DAYLIGHT
TZOFFSETFROM:-0500
TZOFFSETTO:-0400
TZNAME:EDT
DTSTART:20230312T070000
END:DAYLIGHT
BEGIN:STANDARD
TZOFFSETFROM:-0400
TZOFFSETTO:-0500
TZNAME:EST
DTSTART:20231105T060000
END:STANDARD
BEGIN:DAYLIGHT
TZOFFSETFROM:-0500
TZOFFSETTO:-0400
TZNAME:EDT
DTSTART:20240310T070000
END:DAYLIGHT
BEGIN:STANDARD
TZOFFSETFROM:-0400
TZOFFSETTO:-0500
TZNAME:EST
DTSTART:20241103T060000
END:STANDARD
BEGIN:DAYLIGHT
TZOFFSETFROM:-0500
TZOFFSETTO:-0400
TZNAME:EDT
DTSTART:20250309T070000
END:DAYLIGHT
BEGIN:STANDARD
TZOFFSETFROM:-0400
TZOFFSETTO:-0500
TZNAME:EST
DTSTART:20251102T060000
END:STANDARD
END:VTIMEZONE
BEGIN:VEVENT
DTSTART;TZID=America/New_York:20241107T190000
DTEND;TZID=America/New_York:20241107T200000
DTSTAMP:20260419T111108
CREATED:20220311T172036Z
LAST-MODIFIED:20220311T172036Z
UID:13470-1731006000-1731009600@boroughoflitchfield.org
SUMMARY:Historic District Commission
DESCRIPTION:
URL:https://boroughoflitchfield.org/event/historic-district-commission/2024-11-07/
CATEGORIES:HDC
END:VEVENT
BEGIN:VEVENT
DTSTART;TZID=America/New_York:20241112T180000
DTEND;TZID=America/New_York:20241112T200000
DTSTAMP:20260419T111108
CREATED:20220311T171620Z
LAST-MODIFIED:20260224T214506Z
UID:1538-1731434400-1731441600@boroughoflitchfield.org
SUMMARY:Borough of Litchfield Regular Meeting
DESCRIPTION:
URL:https://boroughoflitchfield.org/event/borough-of-litchfield-regular-meeting/2024-11-12/
LOCATION:Litchfield Borough Hall
CATEGORIES:BOL
END:VEVENT
BEGIN:VEVENT
DTSTART;TZID=America/New_York:20241121T190000
DTEND;TZID=America/New_York:20241121T200000
DTSTAMP:20260419T111108
CREATED:20220311T172036Z
LAST-MODIFIED:20220311T172036Z
UID:13471-1732215600-1732219200@boroughoflitchfield.org
SUMMARY:Historic District Commission
DESCRIPTION:
URL:https://boroughoflitchfield.org/event/historic-district-commission/2024-11-21/
CATEGORIES:HDC
END:VEVENT
END:VCALENDAR