BEGIN:VCALENDAR
VERSION:2.0
PRODID:-//Borough of Litchfield - ECPv6.15.20//NONSGML v1.0//EN
CALSCALE:GREGORIAN
METHOD:PUBLISH
X-WR-CALNAME:Borough of Litchfield
X-ORIGINAL-URL:https://boroughoflitchfield.org
X-WR-CALDESC:Events for Borough of Litchfield
REFRESH-INTERVAL;VALUE=DURATION:PT1H
X-Robots-Tag:noindex
X-PUBLISHED-TTL:PT1H
BEGIN:VTIMEZONE
TZID:America/New_York
BEGIN:DAYLIGHT
TZOFFSETFROM:-0500
TZOFFSETTO:-0400
TZNAME:EDT
DTSTART:20240310T070000
END:DAYLIGHT
BEGIN:STANDARD
TZOFFSETFROM:-0400
TZOFFSETTO:-0500
TZNAME:EST
DTSTART:20241103T060000
END:STANDARD
BEGIN:DAYLIGHT
TZOFFSETFROM:-0500
TZOFFSETTO:-0400
TZNAME:EDT
DTSTART:20250309T070000
END:DAYLIGHT
BEGIN:STANDARD
TZOFFSETFROM:-0400
TZOFFSETTO:-0500
TZNAME:EST
DTSTART:20251102T060000
END:STANDARD
BEGIN:DAYLIGHT
TZOFFSETFROM:-0500
TZOFFSETTO:-0400
TZNAME:EDT
DTSTART:20260308T070000
END:DAYLIGHT
BEGIN:STANDARD
TZOFFSETFROM:-0400
TZOFFSETTO:-0500
TZNAME:EST
DTSTART:20261101T060000
END:STANDARD
END:VTIMEZONE
BEGIN:VEVENT
DTSTART;TZID=America/New_York:20250603T174500
DTEND;TZID=America/New_York:20250603T190000
DTSTAMP:20260419T090021
CREATED:20241206T183238Z
LAST-MODIFIED:20241206T183238Z
UID:21622-1748972700-1748977200@boroughoflitchfield.org
SUMMARY:Annual Borough Meeting & Budget Approval
DESCRIPTION:
URL:https://boroughoflitchfield.org/event/annual-borough-meeting-budget-approval/
CATEGORIES:BOL
END:VEVENT
BEGIN:VEVENT
DTSTART;TZID=America/New_York:20250605T190000
DTEND;TZID=America/New_York:20250605T200000
DTSTAMP:20260419T090021
CREATED:20220311T172036Z
LAST-MODIFIED:20220311T172036Z
UID:13483-1749150000-1749153600@boroughoflitchfield.org
SUMMARY:Historic District Commission
DESCRIPTION:
URL:https://boroughoflitchfield.org/event/historic-district-commission/2025-06-05/
CATEGORIES:HDC
END:VEVENT
BEGIN:VEVENT
DTSTART;TZID=America/New_York:20250610T180000
DTEND;TZID=America/New_York:20250610T200000
DTSTAMP:20260419T090021
CREATED:20220311T171620Z
LAST-MODIFIED:20260224T214514Z
UID:1928-1749578400-1749585600@boroughoflitchfield.org
SUMMARY:Borough of Litchfield Regular Meeting
DESCRIPTION:
URL:https://boroughoflitchfield.org/event/borough-of-litchfield-regular-meeting/2025-06-10/
LOCATION:Litchfield Borough Hall
CATEGORIES:BOL
END:VEVENT
BEGIN:VEVENT
DTSTART;TZID=America/New_York:20250619T093000
DTEND;TZID=America/New_York:20250619T103000
DTSTAMP:20260419T090021
CREATED:20250616T234136Z
LAST-MODIFIED:20250616T234508Z
UID:22250-1750325400-1750329000@boroughoflitchfield.org
SUMMARY:Borough of Litchfield Committee Meeting of the Use of Green
DESCRIPTION:JuneCommitteMettingNotice-Green
URL:https://boroughoflitchfield.org/event/borough-of-litchfield-committee-meeting-of-the-use-of-green/
END:VEVENT
BEGIN:VEVENT
DTSTART;TZID=America/New_York:20250619T190000
DTEND;TZID=America/New_York:20250619T200000
DTSTAMP:20260419T090021
CREATED:20220311T172036Z
LAST-MODIFIED:20220311T172036Z
UID:13484-1750359600-1750363200@boroughoflitchfield.org
SUMMARY:Historic District Commission
DESCRIPTION:
URL:https://boroughoflitchfield.org/event/historic-district-commission/2025-06-19/
CATEGORIES:HDC
END:VEVENT
END:VCALENDAR